BEGIN:VCALENDAR
VERSION:2.0
PRODID:icalendar-ruby
CALSCALE:GREGORIAN
METHOD:PUBLISH
BEGIN:VEVENT
DTSTAMP:20260423T114445Z
UID:136-30668@newhoperca.com
DTSTART:20260530T163000Z
DTEND:20260530T181500Z
CLASS:PUBLIC
CREATED:20260422T122354
DESCRIPTION:Formerly known as the Wing-A-Thon\, the Nug-A-Thon is our annua
 l Young Life fundraiser where a bunch of hungry kids eat as many chicken n
 uggets (wings without bones) as possible in an hour's time.  Why\, you as
 k?  Not because they love chicken\, but because by soliciting pledges of 
 money for each nugget (wing) eaten they earn money to help send them to Su
 mmer Camp.  The more they eat\, the more money they raise!  So won't you
  please consider helping them out by making a pledge?  You can get more i
 nformation by talking to Evan Feldt or use the QR code in the pic above or
  the link below\, and make your donation today!
LAST-MODIFIED:20260422T122354
LOCATION:New Hope Church
SUMMARY:Young Life Nug-A-Thon
URL;VALUE=URI:https://www.newhoperca.com/events/young-life-nug-a-thon/2026-
 05-30
ATTACH;FILENAME=CollegeWing2-1024x683-1.jpeg;FMTTYPE=image/jpeg:https://dq5
 pwpg1q8ru0.cloudfront.net/2026/04/22/16/22/37/5c96e85e-418b-4276-a651-1cf4
 7242e828/CollegeWing2-1024x683-1.jpeg
ATTACH;FILENAME=Spicy Chicken Wings (Facebook Post).png;FMTTYPE=image/png:h
 ttps://dq5pwpg1q8ru0.cloudfront.net/2026/04/22/16/23/54/aa8a443d-3c19-41c2
 -97e3-9f37ee7fa333/Spicy%20Chicken%20Wings%20(Facebook%20Post).png
END:VEVENT
END:VCALENDAR
